BEGIN:VCALENDAR
VERSION:2.0
PRODID:-//Mandolinata Karlsruhe 1962 - ECPv6.15.20//NONSGML v1.0//EN
CALSCALE:GREGORIAN
METHOD:PUBLISH
X-WR-CALNAME:Mandolinata Karlsruhe 1962
X-ORIGINAL-URL:https://www.mandolinata.de
X-WR-CALDESC:Veranstaltungen für Mandolinata Karlsruhe 1962
REFRESH-INTERVAL;VALUE=DURATION:PT1H
X-Robots-Tag:noindex
X-PUBLISHED-TTL:PT1H
BEGIN:VTIMEZONE
TZID:Europe/Berlin
BEGIN:DAYLIGHT
TZOFFSETFROM:+0100
TZOFFSETTO:+0200
TZNAME:CEST
DTSTART:20250330T010000
END:DAYLIGHT
BEGIN:STANDARD
TZOFFSETFROM:+0200
TZOFFSETTO:+0100
TZNAME:CET
DTSTART:20251026T010000
END:STANDARD
BEGIN:DAYLIGHT
TZOFFSETFROM:+0100
TZOFFSETTO:+0200
TZNAME:CEST
DTSTART:20260329T010000
END:DAYLIGHT
BEGIN:STANDARD
TZOFFSETFROM:+0200
TZOFFSETTO:+0100
TZNAME:CET
DTSTART:20261025T010000
END:STANDARD
BEGIN:DAYLIGHT
TZOFFSETFROM:+0100
TZOFFSETTO:+0200
TZNAME:CEST
DTSTART:20270328T010000
END:DAYLIGHT
BEGIN:STANDARD
TZOFFSETFROM:+0200
TZOFFSETTO:+0100
TZNAME:CET
DTSTART:20271031T010000
END:STANDARD
END:VTIMEZONE
BEGIN:VEVENT
DTSTART;TZID=Europe/Berlin:20260509T190000
DTEND;TZID=Europe/Berlin:20260509T200000
DTSTAMP:20260424T121015
CREATED:20250720T211209Z
LAST-MODIFIED:20260219T215711Z
UID:963-1778353200-1778356800@www.mandolinata.de
SUMMARY:Konzert in Linkenheim
DESCRIPTION:
URL:https://www.mandolinata.de/event/mandolinatakonzert-in-linkenheim/
LOCATION:Ev. Kirche Linkenheim\, Karlsruher Str. 66\, Linkenheim\, 76351\, Germany
CATEGORIES:Konzerte
END:VEVENT
BEGIN:VEVENT
DTSTART;TZID=Europe/Berlin:20260510T180000
DTEND;TZID=Europe/Berlin:20260510T190000
DTSTAMP:20260424T121015
CREATED:20250720T211615Z
LAST-MODIFIED:20251102T094102Z
UID:966-1778436000-1778439600@www.mandolinata.de
SUMMARY:Konzert in Wilferdingen
DESCRIPTION:
URL:https://www.mandolinata.de/event/mandolinatakonzert-wilferdingen/
LOCATION:Alte Evangelische Kirche Wilferdingen\, Kirchstraße 19-21\, Remchingen\, 75196
CATEGORIES:Konzerte
END:VEVENT
BEGIN:VEVENT
DTSTART;TZID=Europe/Berlin:20260515T190000
DTEND;TZID=Europe/Berlin:20260515T220000
DTSTAMP:20260424T121015
CREATED:20251102T093850Z
LAST-MODIFIED:20251102T093850Z
UID:989-1778871600-1778882400@www.mandolinata.de
SUMMARY:Lange Nacht der Zupfmusik im Schloß Bruchsal
DESCRIPTION:beim eurofestival zupfmusik haben wir keinen Auftritt. Hier helfen wir als Einlasshelfer bei der Lange Nacht der Zupfmusik im Schloß Bruchsal.
URL:https://www.mandolinata.de/event/lange-nacht-der-zupfmusik-im-schloss-bruchsal/
END:VEVENT
BEGIN:VEVENT
DTSTART;VALUE=DATE:20260613
DTEND;VALUE=DATE:20260614
DTSTAMP:20260424T121015
CREATED:20251102T093522Z
LAST-MODIFIED:20251102T093522Z
UID:987-1781308800-1781395199@www.mandolinata.de
SUMMARY:100 Jahre Rietania Rhodt
DESCRIPTION:
URL:https://www.mandolinata.de/event/100-jahre-rietania-rhodt/
END:VEVENT
BEGIN:VEVENT
DTSTART;TZID=Europe/Berlin:20261108T180000
DTEND;TZID=Europe/Berlin:20261108T200000
DTSTAMP:20260424T121015
CREATED:20251103T121639Z
LAST-MODIFIED:20251103T122023Z
UID:995-1794160800-1794168000@www.mandolinata.de
SUMMARY:Herbstkonzert Wohnstift Rüppurr
DESCRIPTION:
URL:https://www.mandolinata.de/event/herbstkonzert-wohnstift-rueppurr/
LOCATION:Joseph-Keilberthsaal\, im Wohnstift Rüppurr\, Erlenweg 2\, Karlsruhe\, 76199
CATEGORIES:Konzerte
END:VEVENT
END:VCALENDAR